BEGIN:VCALENDAR
VERSION:2.0
BEGIN:VEVENT
DTSTART;TZID=Europe/Stockholm:20231226T190000
DTEND;TZID=Europe/Stockholm:20231226T200000
DTSTAMP:20260420T213538
DESCRIPTION:Bibelstudium och Lovsång
SEQUENCE:0
SUMMARY:Powerstation med Ned Modesha
UID:5774@lawebb.se
END:VEVENT
END:VCALENDAR