BEGIN:VCALENDAR
VERSION:2.0
BEGIN:VEVENT
DTSTART;TZID=Europe/Stockholm:20231227T193000
DTEND;TZID=Europe/Stockholm:20231227T203000
DTSTAMP:20260420T213916
DESCRIPTION:Öppen kyrka från kl 18
SEQUENCE:0
SUMMARY:Bön i kyrkan
UID:3276@lawebb.se
END:VEVENT
END:VCALENDAR