BEGIN:VCALENDAR
VERSION:2.0
BEGIN:VEVENT
DTSTART;TZID=Europe/Stockholm:20231227T090000
DTEND;TZID=Europe/Stockholm:20231227T100000
DTSTAMP:20260420T213641
DESCRIPTION:
SEQUENCE:0
SUMMARY:Öppet hus kl 9-12
UID:4889@lawebb.se
END:VEVENT
END:VCALENDAR