BEGIN:VCALENDAR
VERSION:2.0
BEGIN:VEVENT
DTSTART;TZID=Europe/Stockholm:20231229T190000
DTEND;TZID=Europe/Stockholm:20231229T200000
DTSTAMP:20260420T213554
DESCRIPTION:
SEQUENCE:0
SUMMARY:Tonår
UID:5737@lawebb.se
END:VEVENT
END:VCALENDAR