BEGIN:VCALENDAR
VERSION:2.0
BEGIN:VEVENT
DTSTART;TZID=Europe/Stockholm:20240105T180000
DTEND;TZID=Europe/Stockholm:20240105T190000
DTSTAMP:20260420T231724
DESCRIPTION:
SEQUENCE:0
SUMMARY:Bibelstudium med tonår
UID:6898@lawebb.se
END:VEVENT
END:VCALENDAR