BEGIN:VCALENDAR
VERSION:2.0
BEGIN:VEVENT
DTSTART;TZID=Europe/Stockholm:20240107T160000
DTEND;TZID=Europe/Stockholm:20240107T170000
DTSTAMP:20260420T231808
DESCRIPTION:Extra insamling till 
Söndagsskola
Predikan: 
Sång & Musik: 
Ledning:
SEQUENCE:0
SUMMARY:Gudstjänst med Nattvard
UID:3257@lawebb.se
END:VEVENT
END:VCALENDAR