BEGIN:VCALENDAR
VERSION:2.0
BEGIN:VEVENT
DTSTART;TZID=Europe/Stockholm:20240107T160000
DTEND;TZID=Europe/Stockholm:20240107T170000
DTSTAMP:20260420T231944
DESCRIPTION:Predikan: 
Sång & Musik: 
Information:
SEQUENCE:0
SUMMARY:Gudstjänst med Söndagsskola
UID:4568@lawebb.se
END:VEVENT
END:VCALENDAR