BEGIN:VCALENDAR
VERSION:2.0
BEGIN:VEVENT
DTSTART;TZID=Europe/Stockholm:20240109T190000
DTEND;TZID=Europe/Stockholm:20240109T200000
DTSTAMP:20260420T232546
DESCRIPTION:
SEQUENCE:0
SUMMARY:Församlingsråd
UID:2422@lawebb.se
END:VEVENT
END:VCALENDAR