BEGIN:VCALENDAR
VERSION:2.0
BEGIN:VEVENT
DTSTART;TZID=Europe/Stockholm:20240113T100000
DTEND;TZID=Europe/Stockholm:20240113T110000
DTSTAMP:20260420T232245
DESCRIPTION:
SEQUENCE:0
SUMMARY:Bibelstudium
UID:4495@lawebb.se
END:VEVENT
END:VCALENDAR