BEGIN:VCALENDAR
VERSION:2.0
BEGIN:VEVENT
DTSTART;TZID=Europe/Stockholm:20240117T090000
DTEND;TZID=Europe/Stockholm:20240117T100000
DTSTAMP:20260420T231917
DESCRIPTION:
SEQUENCE:0
SUMMARY:Öppet hus kl 9-12
UID:8385@lawebb.se
END:VEVENT
END:VCALENDAR