BEGIN:VCALENDAR
VERSION:2.0
BEGIN:VEVENT
DTSTART;TZID=Europe/Stockholm:20240123T190000
DTEND;TZID=Europe/Stockholm:20240123T200000
DTSTAMP:20260420T231641
DESCRIPTION:Bibelstudium och Lovsång
SEQUENCE:0
SUMMARY:Powerstation med Ned Modesha
UID:6499@lawebb.se
END:VEVENT
END:VCALENDAR