BEGIN:VCALENDAR
VERSION:2.0
BEGIN:VEVENT
DTSTART;TZID=Europe/Stockholm:20240126T180000
DTEND;TZID=Europe/Stockholm:20240126T190000
DTSTAMP:20260420T231814
DESCRIPTION:
SEQUENCE:0
SUMMARY:Bibelstudium med tonår
UID:9863@lawebb.se
END:VEVENT
END:VCALENDAR