BEGIN:VCALENDAR
VERSION:2.0
BEGIN:VEVENT
DTSTART;TZID=Europe/Stockholm:20240127T100000
DTEND;TZID=Europe/Stockholm:20240127T110000
DTSTAMP:20260420T232234
DESCRIPTION:
SEQUENCE:0
SUMMARY:Bibelstudium
UID:9564@lawebb.se
END:VEVENT
END:VCALENDAR