BEGIN:VCALENDAR
VERSION:2.0
BEGIN:VEVENT
DTSTART;TZID=Europe/Stockholm:20240131T193000
DTEND;TZID=Europe/Stockholm:20240131T203000
DTSTAMP:20260420T232205
DESCRIPTION:Öppen kyrka från kl 18
SEQUENCE:0
SUMMARY:Bön i kyrkan
UID:9473@lawebb.se
END:VEVENT
END:VCALENDAR