BEGIN:VCALENDAR
VERSION:2.0
BEGIN:VEVENT
DTSTART;TZID=Europe/Stockholm:20240131T090000
DTEND;TZID=Europe/Stockholm:20240131T100000
DTSTAMP:20260420T231814
DESCRIPTION:
SEQUENCE:0
SUMMARY:Öppet hus kl 9-12
UID:3543@lawebb.se
END:VEVENT
END:VCALENDAR