BEGIN:VCALENDAR
VERSION:2.0
BEGIN:VEVENT
DTSTART;TZID=Europe/Stockholm:20240203T100000
DTEND;TZID=Europe/Stockholm:20240203T110000
DTSTAMP:20260421T010716
DESCRIPTION:
SEQUENCE:0
SUMMARY:Bibelstudium
UID:6694@lawebb.se
END:VEVENT
END:VCALENDAR