BEGIN:VCALENDAR
VERSION:2.0
BEGIN:VEVENT
DTSTART;TZID=Europe/Stockholm:20240206T190000
DTEND;TZID=Europe/Stockholm:20240206T200000
DTSTAMP:20260421T010218
DESCRIPTION:Bibelstudium och Lovsång
SEQUENCE:0
SUMMARY:Powerstation med Ned Modesha
UID:7482@lawebb.se
END:VEVENT
END:VCALENDAR