BEGIN:VCALENDAR
VERSION:2.0
BEGIN:VEVENT
DTSTART;TZID=Europe/Stockholm:20240216T180000
DTEND;TZID=Europe/Stockholm:20240216T190000
DTSTAMP:20260421T010224
DESCRIPTION:
SEQUENCE:0
SUMMARY:Bibelstudium med tonår
UID:2695@lawebb.se
END:VEVENT
END:VCALENDAR