BEGIN:VCALENDAR
VERSION:2.0
BEGIN:VEVENT
DTSTART;TZID=Europe/Stockholm:20240301T190000
DTEND;TZID=Europe/Stockholm:20240301T200000
DTSTAMP:20260421T023756
DESCRIPTION:
SEQUENCE:0
SUMMARY:Tonår
UID:3527@lawebb.se
END:VEVENT
END:VCALENDAR