BEGIN:VCALENDAR
VERSION:2.0
BEGIN:VEVENT
DTSTART;TZID=Europe/Stockholm:20240302T100000
DTEND;TZID=Europe/Stockholm:20240302T110000
DTSTAMP:20260421T023731
DESCRIPTION:
SEQUENCE:0
SUMMARY:Bibelstudium
UID:9292@lawebb.se
END:VEVENT
END:VCALENDAR