BEGIN:VCALENDAR
VERSION:2.0
BEGIN:VEVENT
DTSTART;TZID=Europe/Stockholm:20240303T160000
DTEND;TZID=Europe/Stockholm:20240303T170000
DTSTAMP:20260421T024103
DESCRIPTION:Predikan: 
Sång & Musik: 
Information:
SEQUENCE:0
SUMMARY:Gudstjänst med Söndagsskola
UID:9687@lawebb.se
END:VEVENT
END:VCALENDAR