BEGIN:VCALENDAR
VERSION:2.0
BEGIN:VEVENT
DTSTART;TZID=Europe/Stockholm:20240305T190000
DTEND;TZID=Europe/Stockholm:20240305T200000
DTSTAMP:20260421T023607
DESCRIPTION:Bibelstudium och Lovsång
SEQUENCE:0
SUMMARY:Powerstation med Ned Modesha
UID:8765@lawebb.se
END:VEVENT
END:VCALENDAR