BEGIN:VCALENDAR
VERSION:2.0
BEGIN:VEVENT
DTSTART;TZID=Europe/Stockholm:20240308T190000
DTEND;TZID=Europe/Stockholm:20240308T200000
DTSTAMP:20260421T023801
DESCRIPTION:
SEQUENCE:0
SUMMARY:Tonår
UID:4855@lawebb.se
END:VEVENT
END:VCALENDAR