BEGIN:VCALENDAR
VERSION:2.0
BEGIN:VEVENT
DTSTART;TZID=Europe/Stockholm:20240309T100000
DTEND;TZID=Europe/Stockholm:20240309T110000
DTSTAMP:20260421T024207
DESCRIPTION:
SEQUENCE:0
SUMMARY:Bibelstudium
UID:3845@lawebb.se
END:VEVENT
END:VCALENDAR