BEGIN:VCALENDAR
VERSION:2.0
BEGIN:VEVENT
DTSTART;TZID=Europe/Stockholm:20240313T090000
DTEND;TZID=Europe/Stockholm:20240313T100000
DTSTAMP:20260421T023808
DESCRIPTION:
SEQUENCE:0
SUMMARY:Öppet hus kl 9-12
UID:9858@lawebb.se
END:VEVENT
END:VCALENDAR