BEGIN:VCALENDAR
VERSION:2.0
BEGIN:VEVENT
DTSTART;TZID=Europe/Stockholm:20240320T193000
DTEND;TZID=Europe/Stockholm:20240320T203000
DTSTAMP:20260421T024247
DESCRIPTION:Öppen kyrka från kl 18
SEQUENCE:0
SUMMARY:Bön i kyrkan
UID:6753@lawebb.se
END:VEVENT
END:VCALENDAR