BEGIN:VCALENDAR
VERSION:2.0
BEGIN:VEVENT
DTSTART;TZID=Europe/Stockholm:20240323T100000
DTEND;TZID=Europe/Stockholm:20240323T110000
DTSTAMP:20260421T023935
DESCRIPTION:
SEQUENCE:0
SUMMARY:Bibelstudium
UID:8872@lawebb.se
END:VEVENT
END:VCALENDAR