BEGIN:VCALENDAR
VERSION:2.0
BEGIN:VEVENT
DTSTART;TZID=Europe/Stockholm:20240330T100000
DTEND;TZID=Europe/Stockholm:20240330T110000
DTSTAMP:20260421T023749
DESCRIPTION:
SEQUENCE:0
SUMMARY:Bibelstudium
UID:9353@lawebb.se
END:VEVENT
END:VCALENDAR