BEGIN:VCALENDAR
VERSION:2.0
BEGIN:VEVENT
DTSTART;TZID=Europe/Stockholm:20240331T160000
DTEND;TZID=Europe/Stockholm:20240331T170000
DTSTAMP:20260421T023952
DESCRIPTION:Predikan: 
Sång & Musik: 
Information:
SEQUENCE:0
SUMMARY:Gudstjänst med Söndagsskola
UID:3259@lawebb.se
END:VEVENT
END:VCALENDAR