BEGIN:VCALENDAR
VERSION:2.0
BEGIN:VEVENT
DTSTART;TZID=Europe/Stockholm:20240406T100000
DTEND;TZID=Europe/Stockholm:20240406T110000
DTSTAMP:20260421T042430
DESCRIPTION:
SEQUENCE:0
SUMMARY:Bibelstudium
UID:9926@lawebb.se
END:VEVENT
END:VCALENDAR