BEGIN:VCALENDAR
VERSION:2.0
BEGIN:VEVENT
DTSTART;TZID=Europe/Stockholm:20240413T100000
DTEND;TZID=Europe/Stockholm:20240413T110000
DTSTAMP:20260421T042841
DESCRIPTION:
SEQUENCE:0
SUMMARY:Bibelstudium
UID:5466@lawebb.se
END:VEVENT
END:VCALENDAR