BEGIN:VCALENDAR
VERSION:2.0
BEGIN:VEVENT
DTSTART;TZID=Europe/Stockholm:20240416T190000
DTEND;TZID=Europe/Stockholm:20240416T200000
DTSTAMP:20260421T042236
DESCRIPTION:Bibelstudium och Lovsång
SEQUENCE:0
SUMMARY:Powerstation med Ned Modesha
UID:9942@lawebb.se
END:VEVENT
END:VCALENDAR