BEGIN:VCALENDAR
VERSION:2.0
BEGIN:VEVENT
DTSTART;TZID=Europe/Stockholm:20240417T193000
DTEND;TZID=Europe/Stockholm:20240417T203000
DTSTAMP:20260421T042851
DESCRIPTION:Öppen kyrka från kl 18
SEQUENCE:0
SUMMARY:Bön i kyrkan
UID:6434@lawebb.se
END:VEVENT
END:VCALENDAR