BEGIN:VCALENDAR
VERSION:2.0
BEGIN:VEVENT
DTSTART;TZID=Europe/Stockholm:20240417T090000
DTEND;TZID=Europe/Stockholm:20240417T100000
DTSTAMP:20260421T042514
DESCRIPTION:
SEQUENCE:0
SUMMARY:Öppet hus kl 9-12
UID:2474@lawebb.se
END:VEVENT
END:VCALENDAR