BEGIN:VCALENDAR
VERSION:2.0
BEGIN:VEVENT
DTSTART;TZID=Europe/Stockholm:20240420T100000
DTEND;TZID=Europe/Stockholm:20240420T110000
DTSTAMP:20260421T043044
DESCRIPTION:
SEQUENCE:0
SUMMARY:Bibelstudium
UID:7466@lawebb.se
END:VEVENT
END:VCALENDAR