BEGIN:VCALENDAR
VERSION:2.0
BEGIN:VEVENT
DTSTART;TZID=Europe/Stockholm:20240428T160000
DTEND;TZID=Europe/Stockholm:20240428T170000
DTSTAMP:20260421T042642
DESCRIPTION:Predikan: 
Sång & Musik: 
Information:
SEQUENCE:0
SUMMARY:Gudstjänst med Söndagsskola
UID:9884@lawebb.se
END:VEVENT
END:VCALENDAR