BEGIN:VCALENDAR
VERSION:2.0
BEGIN:VEVENT
DTSTART;TZID=Europe/Stockholm:20240505T160000
DTEND;TZID=Europe/Stockholm:20240505T170000
DTSTAMP:20260421T060806
DESCRIPTION:Extra insamling till 
Söndagsskola
Predikan: 
Sång & Musik: 
Ledning:
SEQUENCE:0
SUMMARY:Gudstjänst med Nattvard
UID:5966@lawebb.se
END:VEVENT
END:VCALENDAR