BEGIN:VCALENDAR
VERSION:2.0
BEGIN:VEVENT
DTSTART;TZID=Europe/Stockholm:20240508T193000
DTEND;TZID=Europe/Stockholm:20240508T203000
DTSTAMP:20260421T060907
DESCRIPTION:Öppen kyrka från kl 18
SEQUENCE:0
SUMMARY:Bön i kyrkan
UID:8248@lawebb.se
END:VEVENT
END:VCALENDAR