BEGIN:VCALENDAR
VERSION:2.0
BEGIN:VEVENT
DTSTART;TZID=Europe/Stockholm:20240508T090000
DTEND;TZID=Europe/Stockholm:20240508T100000
DTSTAMP:20260421T060610
DESCRIPTION:
SEQUENCE:0
SUMMARY:Öppet hus kl 9-12
UID:6383@lawebb.se
END:VEVENT
END:VCALENDAR