BEGIN:VCALENDAR
VERSION:2.0
BEGIN:VEVENT
DTSTART;TZID=Europe/Stockholm:20240510T190000
DTEND;TZID=Europe/Stockholm:20240510T200000
DTSTAMP:20260421T061005
DESCRIPTION:
SEQUENCE:0
SUMMARY:Tonår
UID:3338@lawebb.se
END:VEVENT
END:VCALENDAR