BEGIN:VCALENDAR
VERSION:2.0
BEGIN:VEVENT
DTSTART;TZID=Europe/Stockholm:20240510T180000
DTEND;TZID=Europe/Stockholm:20240510T190000
DTSTAMP:20260421T060705
DESCRIPTION:
SEQUENCE:0
SUMMARY:Bibelstudium med tonår
UID:5773@lawebb.se
END:VEVENT
END:VCALENDAR