BEGIN:VCALENDAR
VERSION:2.0
BEGIN:VEVENT
DTSTART;TZID=Europe/Stockholm:20240511T100000
DTEND;TZID=Europe/Stockholm:20240511T110000
DTSTAMP:20260421T061014
DESCRIPTION:
SEQUENCE:0
SUMMARY:Bibelstudium
UID:7777@lawebb.se
END:VEVENT
END:VCALENDAR