BEGIN:VCALENDAR
VERSION:2.0
BEGIN:VEVENT
DTSTART;TZID=Europe/Stockholm:20240519T160000
DTEND;TZID=Europe/Stockholm:20240519T170000
DTSTAMP:20260421T061155
DESCRIPTION:Predikan: 
Sång & Musik: 
Information:
SEQUENCE:0
SUMMARY:Gudstjänst med Söndagsskola
UID:6674@lawebb.se
END:VEVENT
END:VCALENDAR