BEGIN:VCALENDAR
VERSION:2.0
BEGIN:VEVENT
DTSTART;TZID=Europe/Stockholm:20240524T190000
DTEND;TZID=Europe/Stockholm:20240524T200000
DTSTAMP:20260421T060906
DESCRIPTION:
SEQUENCE:0
SUMMARY:Tonår
UID:4828@lawebb.se
END:VEVENT
END:VCALENDAR