BEGIN:VCALENDAR
VERSION:2.0
BEGIN:VEVENT
DTSTART;TZID=Europe/Stockholm:20240524T180000
DTEND;TZID=Europe/Stockholm:20240524T190000
DTSTAMP:20260421T060532
DESCRIPTION:
SEQUENCE:0
SUMMARY:Bibelstudium med tonår
UID:3375@lawebb.se
END:VEVENT
END:VCALENDAR