BEGIN:VCALENDAR
VERSION:2.0
BEGIN:VEVENT
DTSTART;TZID=Europe/Stockholm:20240526T160000
DTEND;TZID=Europe/Stockholm:20240526T170000
DTSTAMP:20260421T061314
DESCRIPTION:Predikan: 
Sång & Musik: 
Information:
SEQUENCE:0
SUMMARY:Gudstjänst med Söndagsskola
UID:9264@lawebb.se
END:VEVENT
END:VCALENDAR