BEGIN:VCALENDAR
VERSION:2.0
BEGIN:VEVENT
DTSTART;TZID=Europe/Stockholm:20240528T190000
DTEND;TZID=Europe/Stockholm:20240528T200000
DTSTAMP:20260421T060602
DESCRIPTION:Bibelstudium och Lovsång
SEQUENCE:0
SUMMARY:Powerstation med Ned Modesha
UID:6954@lawebb.se
END:VEVENT
END:VCALENDAR