BEGIN:VCALENDAR
VERSION:2.0
BEGIN:VEVENT
DTSTART;TZID=Europe/Stockholm:20240531T180000
DTEND;TZID=Europe/Stockholm:20240531T190000
DTSTAMP:20260421T060715
DESCRIPTION:
SEQUENCE:0
SUMMARY:Bibelstudium med tonår
UID:8879@lawebb.se
END:VEVENT
END:VCALENDAR