BEGIN:VCALENDAR
VERSION:2.0
BEGIN:VEVENT
DTSTART;TZID=Europe/Stockholm:20240607T190000
DTEND;TZID=Europe/Stockholm:20240607T200000
DTSTAMP:20260421T080901
DESCRIPTION:
SEQUENCE:0
SUMMARY:Tonår
UID:3556@lawebb.se
END:VEVENT
END:VCALENDAR