BEGIN:VCALENDAR
VERSION:2.0
BEGIN:VEVENT
DTSTART;TZID=Europe/Stockholm:20240611T190000
DTEND;TZID=Europe/Stockholm:20240611T200000
DTSTAMP:20260421T081229
DESCRIPTION:
SEQUENCE:0
SUMMARY:Församlingsråd
UID:2837@lawebb.se
END:VEVENT
END:VCALENDAR